BEGIN:VCALENDAR
VERSION:2.0
X-WR-CALNAME:EventsCalendar
CALSCALE:GREGORIAN
BEGIN:VTIMEZONE
TZID:America/Chicago
LAST-MODIFIED:20231222T233358Z
TZURL:https://www.tzurl.org/zoneinfo-outlook/America/Chicago
X-LIC-LOCATION:America/Chicago
BEGIN:DAYLIGHT
TZNAME:CDT
TZOFFSETFROM:-0600
TZOFFSETTO:-0500
DTSTART:19700308T020000
RRULE:FREQ=YEARLY;BYMONTH=3;BYDAY=2SU
END:DAYLIGHT
BEGIN:STANDARD
TZNAME:CST
TZOFFSETFROM:-0500
TZOFFSETTO:-0600
DTSTART:19701101T020000
RRULE:FREQ=YEARLY;BYMONTH=11;BYDAY=1SU
END:STANDARD
END:VTIMEZONE
BEGIN:VEVENT
CATEGORIES:Category,Career and Transfer,Category,University Recruiting/Transfer Events,Location,North Lake,Tag,Transfer
DESCRIPTION:Location: North Lake Campus, H200 Auditorium Join Dallas College Transfer Services and Intercultural and Global Student Engagement for the 2026 HBCU Transfer Fair &amp;mdash; a celebration of culture, community and opportunity. Meet representatives from Historically Black Colleges and Universities across the country and discover transfer pathways that can shape your future. Enjoy: Soul food tastings Live step-team performances Connections with members of the Divine Nine Whether you&amp;rsquo;re ready to transfer or just exploring your options, connect, celebrate and take the next step toward your Bachelor Bound journey. All are welcome! Questions? Please email us at CareerAndTransfer@DallasCollege.edu.&amp;nbsp;156516
DTSTAMP:20260423T023644
DTSTART;TZID=America/Chicago:20260225T104500
DTEND;TZID=America/Chicago:20260225T150000
LOCATION:North Lake
SUMMARY;LANGUAGE=en-us:HBCUniverse - It&#039;s a Different World
UID:f2e5e6203ba8e5ec2edc89124083865c@www.dallascollege.edu
END:VEVENT
END:VCALENDAR
