BEGIN:VCALENDAR
VERSION:2.0
X-WR-CALNAME:EventsCalendar
CALSCALE:GREGORIAN
BEGIN:VTIMEZONE
TZID:America/Chicago
LAST-MODIFIED:20231222T233358Z
TZURL:https://www.tzurl.org/zoneinfo-outlook/America/Chicago
X-LIC-LOCATION:America/Chicago
BEGIN:DAYLIGHT
TZNAME:CDT
TZOFFSETFROM:-0600
TZOFFSETTO:-0500
DTSTART:19700308T020000
RRULE:FREQ=YEARLY;BYMONTH=3;BYDAY=2SU
END:DAYLIGHT
BEGIN:STANDARD
TZNAME:CST
TZOFFSETFROM:-0500
TZOFFSETTO:-0600
DTSTART:19701101T020000
RRULE:FREQ=YEARLY;BYMONTH=11;BYDAY=1SU
END:STANDARD
END:VTIMEZONE
BEGIN:VEVENT
CATEGORIES:Category,Academic Calendar,Location,All Locations,Tag,Registration
DESCRIPTION:Current student registration (for returning students) will be available Monday, Feb. 23, through Sunday, March 1. For more information, visit&amp;nbsp;DallasCollege.edu/Register.156568
DTSTAMP:20260422T202446
DTSTART;TZID=America/Chicago:20260224T000000
DTEND;TZID=America/Chicago:20260224T235900
LOCATION:All Locations
SUMMARY;LANGUAGE=en-us:Current Student Registration for Summer and Fall Credit Classes
UID:b719d6d0584bc09a4cfd6bb2805be324@www.dallascollege.edu
END:VEVENT
BEGIN:VEVENT
CATEGORIES:Category,Academic Calendar,Location,All Locations,Tag,Registration
DESCRIPTION:Current student registration (for returning students) will be available Monday, Feb. 23, through Sunday, March 1. For more information, visit&amp;nbsp;DallasCollege.edu/Register.156568
DTSTAMP:20260422T202446
DTSTART;TZID=America/Chicago:20260225T000000
DTEND;TZID=America/Chicago:20260225T235900
LOCATION:All Locations
SUMMARY;LANGUAGE=en-us:Current Student Registration for Summer and Fall Credit Classes
UID:10178a86663b0db8822beec75c74179d@www.dallascollege.edu
END:VEVENT
BEGIN:VEVENT
CATEGORIES:Category,Academic Calendar,Location,All Locations,Tag,Registration
DESCRIPTION:Current student registration (for returning students) will be available Monday, Feb. 23, through Sunday, March 1. For more information, visit&amp;nbsp;DallasCollege.edu/Register.156568
DTSTAMP:20260422T202446
DTSTART;TZID=America/Chicago:20260226T000000
DTEND;TZID=America/Chicago:20260226T235900
LOCATION:All Locations
SUMMARY;LANGUAGE=en-us:Current Student Registration for Summer and Fall Credit Classes
UID:9a061766687b3666eee1eabc36b20edf@www.dallascollege.edu
END:VEVENT
BEGIN:VEVENT
CATEGORIES:Category,Academic Calendar,Location,All Locations,Tag,Registration
DESCRIPTION:Current student registration (for returning students) will be available Monday, Feb. 23, through Sunday, March 1. For more information, visit&amp;nbsp;DallasCollege.edu/Register.156568
DTSTAMP:20260422T202446
DTSTART;TZID=America/Chicago:20260227T000000
DTEND;TZID=America/Chicago:20260227T235900
LOCATION:All Locations
SUMMARY;LANGUAGE=en-us:Current Student Registration for Summer and Fall Credit Classes
UID:95dd5ed6f10b611191a6b63e3c8753d4@www.dallascollege.edu
END:VEVENT
BEGIN:VEVENT
CATEGORIES:Category,Academic Calendar,Location,All Locations,Tag,Registration
DESCRIPTION:Current student registration (for returning students) will be available Monday, Feb. 23, through Sunday, March 1. For more information, visit&amp;nbsp;DallasCollege.edu/Register.156568
DTSTAMP:20260422T202446
DTSTART;TZID=America/Chicago:20260228T000000
DTEND;TZID=America/Chicago:20260228T235900
LOCATION:All Locations
SUMMARY;LANGUAGE=en-us:Current Student Registration for Summer and Fall Credit Classes
UID:5774bd22e47fdb5c34ac833a6bf79b7d@www.dallascollege.edu
END:VEVENT
BEGIN:VEVENT
CATEGORIES:Category,Academic Calendar,Location,All Locations,Tag,Registration
DESCRIPTION:Current student registration (for returning students) will be available Monday, Feb. 23, through Sunday, March 1. For more information, visit&amp;nbsp;DallasCollege.edu/Register.156568
DTSTAMP:20260422T202446
DTSTART;TZID=America/Chicago:20260301T000000
DTEND;TZID=America/Chicago:20260301T235900
LOCATION:All Locations
SUMMARY;LANGUAGE=en-us:Current Student Registration for Summer and Fall Credit Classes
UID:6703d3dc9886bc9ab9625c82502e1383@www.dallascollege.edu
END:VEVENT
END:VCALENDAR
