BEGIN:VCALENDAR
VERSION:2.0
X-WR-CALNAME:EventsCalendar
CALSCALE:GREGORIAN
BEGIN:VTIMEZONE
TZID:America/Chicago
LAST-MODIFIED:20231222T233358Z
TZURL:https://www.tzurl.org/zoneinfo-outlook/America/Chicago
X-LIC-LOCATION:America/Chicago
BEGIN:DAYLIGHT
TZNAME:CDT
TZOFFSETFROM:-0600
TZOFFSETTO:-0500
DTSTART:19700308T020000
RRULE:FREQ=YEARLY;BYMONTH=3;BYDAY=2SU
END:DAYLIGHT
BEGIN:STANDARD
TZNAME:CST
TZOFFSETFROM:-0500
TZOFFSETTO:-0600
DTSTART:19701101T020000
RRULE:FREQ=YEARLY;BYMONTH=11;BYDAY=1SU
END:STANDARD
END:VTIMEZONE
BEGIN:VEVENT
CATEGORIES:Category,Academic Calendar,Location,All Locations,Tag,Registration
DESCRIPTION:Today is the last day to register for Fall credit classes (16-week and first eight-week sessions), which start tomorrow, Aug. 24. For more information, visit&amp;nbsp;DallasCollege.edu/Register.156605
DTSTAMP:20260423T190149
DTSTART;TZID=America/Chicago:20260823T000000
DTEND;TZID=America/Chicago:20260823T235900
LOCATION:All Locations
SUMMARY;LANGUAGE=en-us:Last Day To Register for Fall Credit Classes (16-Week and First Eight-Week Sessions)
UID:df44d8d3e1be166bdd24bf37d9cc1111@www.dallascollege.edu
END:VEVENT
END:VCALENDAR
