BEGIN:VCALENDAR
VERSION:2.0
X-WR-CALNAME:EventsCalendar
CALSCALE:GREGORIAN
BEGIN:VTIMEZONE
TZID:America/Chicago
LAST-MODIFIED:20231222T233358Z
TZURL:https://www.tzurl.org/zoneinfo-outlook/America/Chicago
X-LIC-LOCATION:America/Chicago
BEGIN:DAYLIGHT
TZNAME:CDT
TZOFFSETFROM:-0600
TZOFFSETTO:-0500
DTSTART:19700308T020000
RRULE:FREQ=YEARLY;BYMONTH=3;BYDAY=2SU
END:DAYLIGHT
BEGIN:STANDARD
TZNAME:CST
TZOFFSETFROM:-0500
TZOFFSETTO:-0600
DTSTART:19701101T020000
RRULE:FREQ=YEARLY;BYMONTH=11;BYDAY=1SU
END:STANDARD
END:VTIMEZONE
BEGIN:VEVENT
CATEGORIES:Category,Arts and Culture,Location,Eastfield,Tag,Theater
DESCRIPTION:Step into the spotlight this fall! Come audition for our upcoming theatre production (title to be announced soon), and we&amp;rsquo;re seeking a vibrant, diverse group of performers ready to bring bold stories to life. Participants must enroll in the Theatre Practicum course&amp;mdash;come ready to create, collaborate, and shine on stage! Location:&amp;nbsp;Eastfield Campus, Bldg. F, Room F210 (Performance Hall)158829
DTSTAMP:20260421T064345
DTSTART;TZID=America/Chicago:20260901T183000
DTEND;TZID=America/Chicago:20260901T213000
LOCATION:Eastfield
SUMMARY;LANGUAGE=en-us:EFC Fall Theatre Auditions
UID:4f7513c4568f3937ee94d3333c061c35@www.dallascollege.edu
END:VEVENT
BEGIN:VEVENT
CATEGORIES:Category,Arts and Culture,Location,Eastfield,Tag,Theater
DESCRIPTION:Step into the spotlight this fall! Come audition for our upcoming theatre production (title to be announced soon), and we&amp;rsquo;re seeking a vibrant, diverse group of performers ready to bring bold stories to life. Participants must enroll in the Theatre Practicum course&amp;mdash;come ready to create, collaborate, and shine on stage! Location:&amp;nbsp;Eastfield Campus, Bldg. F, Room F210 (Performance Hall)158829
DTSTAMP:20260421T064345
DTSTART;TZID=America/Chicago:20260902T183000
DTEND;TZID=America/Chicago:20260902T213000
LOCATION:Eastfield
SUMMARY;LANGUAGE=en-us:EFC Fall Theatre Auditions
UID:5ff7c6cb3406471cdcda868d393bcd84@www.dallascollege.edu
END:VEVENT
BEGIN:VEVENT
CATEGORIES:Category,Arts and Culture,Location,Eastfield,Tag,Theater
DESCRIPTION:Step into the spotlight this fall! Come audition for our upcoming theatre production (title to be announced soon), and we&amp;rsquo;re seeking a vibrant, diverse group of performers ready to bring bold stories to life. Participants must enroll in the Theatre Practicum course&amp;mdash;come ready to create, collaborate, and shine on stage! Location:&amp;nbsp;Eastfield Campus, Bldg. F, Room F210 (Performance Hall)158829
DTSTAMP:20260421T064345
DTSTART;TZID=America/Chicago:20260903T183000
DTEND;TZID=America/Chicago:20260903T213000
LOCATION:Eastfield
SUMMARY;LANGUAGE=en-us:EFC Fall Theatre Auditions
UID:abf991e121a47f03a71806f07e88596c@www.dallascollege.edu
END:VEVENT
END:VCALENDAR
