BEGIN:VCALENDAR
VERSION:2.0
X-WR-CALNAME:EventsCalendar
CALSCALE:GREGORIAN
BEGIN:VTIMEZONE
TZID:America/Chicago
LAST-MODIFIED:20231222T233358Z
TZURL:https://www.tzurl.org/zoneinfo-outlook/America/Chicago
X-LIC-LOCATION:America/Chicago
BEGIN:DAYLIGHT
TZNAME:CDT
TZOFFSETFROM:-0600
TZOFFSETTO:-0500
DTSTART:19700308T020000
RRULE:FREQ=YEARLY;BYMONTH=3;BYDAY=2SU
END:DAYLIGHT
BEGIN:STANDARD
TZNAME:CST
TZOFFSETFROM:-0500
TZOFFSETTO:-0600
DTSTART:19701101T020000
RRULE:FREQ=YEARLY;BYMONTH=11;BYDAY=1SU
END:STANDARD
END:VTIMEZONE
BEGIN:VEVENT
CATEGORIES:Category,Arts and Culture,Location,Eastfield,Tag,Art,Tag,Dance,Tag,Music,Tag,School of CAED,Tag,Theater
DESCRIPTION:Join us to&amp;nbsp;celebrate&amp;nbsp;student achievement in the visual and performing arts. Performances, exhibitions and studio tours will be available. This is a great opportunity to learn about&amp;nbsp;Dallas College Eastfield&#039;s Arts programs. Professors and students will be on hand to share their experiences and to discuss their programs with potential students. RSVP for The Arts Open House Location: Eastfield Campus, Building F159476
DTSTAMP:20260423T233104
DTSTART;TZID=America/Chicago:20260507T090000
DTEND;TZID=America/Chicago:20260507T150000
LOCATION:Eastfield
SUMMARY;LANGUAGE=en-us:The Arts Open House
UID:980b89784f16632cc4e2e00613a27b63@www.dallascollege.edu
END:VEVENT
END:VCALENDAR
